

BEGIN:VCALENDAR
VERSION:2.0
PRODID:-//Treuhand Weser-Ems - ECPv6.15.17//NONSGML v1.0//EN
CALSCALE:GREGORIAN
METHOD:PUBLISH
X-WR-CALNAME:Treuhand Weser-Ems
X-ORIGINAL-URL:https://treuhand.de
X-WR-CALDESC:Veranstaltungen für Treuhand Weser-Ems
REFRESH-INTERVAL;VALUE=DURATION:PT1H
X-Robots-Tag:noindex
X-PUBLISHED-TTL:PT1H
BEGIN:VTIMEZONE
TZID:Europe/Berlin
BEGIN:DAYLIGHT
TZOFFSETFROM:+0100
TZOFFSETTO:+0200
TZNAME:CEST
DTSTART:20250330T010000
END:DAYLIGHT
BEGIN:STANDARD
TZOFFSETFROM:+0200
TZOFFSETTO:+0100
TZNAME:CET
DTSTART:20251026T010000
END:STANDARD
BEGIN:DAYLIGHT
TZOFFSETFROM:+0100
TZOFFSETTO:+0200
TZNAME:CEST
DTSTART:20260329T010000
END:DAYLIGHT
BEGIN:STANDARD
TZOFFSETFROM:+0200
TZOFFSETTO:+0100
TZNAME:CET
DTSTART:20261025T010000
END:STANDARD
BEGIN:DAYLIGHT
TZOFFSETFROM:+0100
TZOFFSETTO:+0200
TZNAME:CEST
DTSTART:20270328T010000
END:DAYLIGHT
BEGIN:STANDARD
TZOFFSETFROM:+0200
TZOFFSETTO:+0100
TZNAME:CET
DTSTART:20271031T010000
END:STANDARD
END:VTIMEZONE
BEGIN:VEVENT
DTSTART;TZID=Europe/Berlin:20260420T160000
DTEND;TZID=Europe/Berlin:20260420T180000
DTSTAMP:20260419T222355
CREATED:20260220T112848Z
LAST-MODIFIED:20260309T094528Z
UID:23762-1776700800-1776708000@treuhand.de
SUMMARY:Netzwerktreffen WEITER (Weser-Ems-IT-Experten-Round Table)
DESCRIPTION:IT-Sicherheit wird zur Chefsache. Unter diesem Motto steht die IT-Sicherheit spätestens seit der Verabschiedung der NIS-2-Richtline im Dezember 2025. Viele Unternehmen stehen mit diesen Forderungen allerdings vor einer fast unlösbaren Aufgabe. Was muss ich beachten? Wie fange ich an und wer kann mir helfen?\n \nMit diesen Fragen und vielen mehr werden wir uns beim ersten Treffen des WEITER (Weser-Ems-IT-Experten-Round Table) Netzwerks beschäftigen. Treten Sie in Kontakt zu anderen Unternehmer:innen in der Umgebung und diskutieren Sie mit uns die aktuellen Herausforderungen der digitalen Zukunft.\n \nDas Netzwerk spricht Geschäftsführende\, kaufmännische Leitungen und IT-Verantwortliche von Unternehmen an. Weitere Informationen zum Netzwerk gibt es hier.\n \nBitte melden Sie sich über dieses Formular zur Teilnahme an.\n \nBitte beachten Sie\, dass auf dieser Veranstaltung gegebenenfalls Fotos und Videos erstellt und unter anderem auf unseren Social-Media-Kanälen veröffentlicht werden. Wenn Sie nicht fotografiert bzw. gefilmt werden möchten\, sprechen Sie bitte den Fotografen an. Einzelheiten finden Sie in unseren Datenschutzhinweisen für Veranstaltungs- und Seminarteilnehmer.
URL:https://treuhand.de/veranstaltung/netzwerktreffen-weiter-weser-ems-it-experten-round-table/
LOCATION:Computermuseum Oldenburg\, Bahnhofspatz 10\, Oldenburg\, Niedersachsen\, 26122\, Germany
CATEGORIES:Impulse & Trainings,Veranstaltungen
END:VEVENT
BEGIN:VEVENT
DTSTART;TZID=Europe/Berlin:20260423T090000
DTEND;TZID=Europe/Berlin:20260423T133000
DTSTAMP:20260419T222355
CREATED:20250828T091755Z
LAST-MODIFIED:20260317T083831Z
UID:18092-1776934800-1776951000@treuhand.de
SUMMARY:Zukunftstag 2026
DESCRIPTION:Praxis erleben.\nAm 23. April 2026 ist Zukunftstag – auch bei uns im #teamtreuhand! An diesem Tag haben Schülerinnen und Schüler der Klassen 5-10 die Chance\, die Treuhand mit ihren vielfältigen Aufgaben und Berufsbildern kennen zu lernen und den Mitarbeitenden einen Blick über die Schulter zu werfen.\n \nNach einem kleinen Unternehmensdurchgang\, werden wirtschaftliche Themen erörtert\, die Ausbildungsberufe „Steuerfachangestellter (m/w/d)“\, „Fachinformatiker Fachrichtung Systemintegration (m/w/d)“ sowie „Kaufmann für Büromanagement (m/w/d)“ vorgestellt und Gruppenübungen durchgeführt. Natürlich stehen an diesem Tag auch ein paar kleine Snacks und Getränke zur Verfügung.\n \nWir sind für den Zukunftstag 2026 bereits ausgebucht.  \n 
URL:https://treuhand.de/veranstaltung/zukunftstag-2026/
LOCATION:Treuhand\, Langenweg 55\, Oldenburg\, 26125
CATEGORIES:Job- & Ausbildungsveranstaltungen,Veranstaltungen
END:VEVENT
BEGIN:VEVENT
DTSTART;TZID=Europe/Berlin:20260505T120000
DTEND;TZID=Europe/Berlin:20260505T130000
DTSTAMP:20260419T222355
CREATED:20260316T082122Z
LAST-MODIFIED:20260324T113936Z
UID:24377-1777982400-1777986000@treuhand.de
SUMMARY:HLB Businessmeeting: Wandel wartet nicht. Warum Innovationsdruck Führung braucht.
DESCRIPTION:Veränderung und Druck prägen den unternehmerischen Alltag mehr denn je. Doch sie müssen nicht lähmen: sie können Auslöser für Wachstum\, Innovation und unternehmerische Weiterentwicklung sein.\nWir laden Sie herzlich zu unserem HLB Businessmeeting am 5. Mai 2026 ein. Im Rahmen unserer virtuellen Mittagspause zeigt Paula Menninghaus warum nicht der Druck selbst\, sondern die Fähigkeit\, mit ihm umzugehen\, über Zukunftsfähigkeit entscheidet. Mit klaren Impulsen zu Entscheidungsstärke\, Kommunikation und Problemlösekompetenz überträgt sie erprobte Denk- und Handlungsprinzipien auf den Unternehmensalltag.\nDer Vortrag ermutigt Unternehmerinnen und Unternehmer\, Wandel aktiv zu gestalten\, Verantwortung zu übernehmen und Innovationsdruck als Chance für Transformation und neue Geschäftsmodelle zu nutzen. \n \nDatum: 5. Mai 2026\nUhrzeit: 12:00 – 13:00 Uhr\nReferentin: Paula Menninghaus – CEO & Co-Founderin Strong Partners GmbH\, TEDx Speakerin \nDie Teilnahme am Event ist kostenlos. Den Teilnahmelink und weitere Informationen zum Ablauf der digitalen Veranstaltung erhalten Sie nach der Anmeldung. Diese erfolgt hier.
URL:https://treuhand.de/veranstaltung/hlb-businessmeeting-wandel-wartet-nicht-warum-innovationsdruck-fuehrung-braucht/
LOCATION:Online
CATEGORIES:Impulse & Trainings,Veranstaltungen
END:VEVENT
BEGIN:VEVENT
DTSTART;TZID=Europe/Berlin:20260512T100000
DTEND;TZID=Europe/Berlin:20260512T150000
DTSTAMP:20260419T222355
CREATED:20250107T100049Z
LAST-MODIFIED:20260312T082029Z
UID:18254-1778580000-1778598000@treuhand.de
SUMMARY:Career Day 2026 Job- und Praktikumsmesse
DESCRIPTION:Werde Teil unseres #teamtreuhand! Lerne uns auf dem Career Day 2026\, der Job- und Praktikumsmesse der Carl-von-Ossietzky-Universität Oldenburg\, persönlich kennen und lasse dich von der Treuhand begeistern. Mit unseren Unternehmensbereichen Wirtschaftsprüfung\, Steuer-\, Rechts-\, IT- und Unternehmensberatung bieten wir engagierten Studierenden und Absolventen vielfältige Einstiegs- und Karrieremöglichkeiten.\n \nAuf deinem Karriereweg begleiten wir dich und haben dabei Einiges zu bieten: ein exzellentes Aus- und Weiterbildungssystem\, eine teamorientierte und familienfreundliche Unternehmenskultur\, vielfältige Sozialleistungen und vor allen Dingen hervorragende Entwicklungsperspektiven in einer tollen Arbeitsatmosphäre. Mit unserem internationalen Expertenteam des HLB-Netzwerkes\, einem Zusammenschluss unabhängiger Wirtschaftsprüfungs- und Steuerberatungsgesellschaften\, nimmt deine Zukunft bei uns richtig Fahrt auf.\n \nWir freuen uns auf ein persönliches Gespräch mit dir!\n \nWeitere Informationen findest du hier.
URL:https://treuhand.de/veranstaltung/career-day-2026-job-praktikumsmesse/
LOCATION:Carl von Ossietzky Universität Oldenburg\, Ammerländer Heerstraße 114-118\, Oldenburg\, Niedersachsen\, 26129\, Deutschland
CATEGORIES:Job- & Ausbildungsveranstaltungen,Veranstaltungen
END:VEVENT
BEGIN:VEVENT
DTSTART;VALUE=DATE:20260519
DTEND;VALUE=DATE:20260522
DTSTAMP:20260419T222355
CREATED:20250107T125208Z
LAST-MODIFIED:20260312T082455Z
UID:18257-1779177600-1779350399@treuhand.de
SUMMARY:Vocatium 2026 - Fachmesse für Ausbildung & Studium
DESCRIPTION:Jetzt loslegen – starte mit uns in deine Zukunft und besuche uns auf der Vocatium-Messe! \nDie Vocatium-Messe ermöglicht dir gut vorbereitete Gespräche mit unseren Mitarbeitenden. Darin informieren wir dich an zwei Tagen über die abwechslungsreichen Ausbildungsberufe des Steuerfachangestellten (m/w/d)\, Fachinformatikers Fachrichtung Systemintegration (m/w/d) und des Kaufmanns für Büromanagement (m/w/d) sowie das triale Studium im Bereich Steuerrecht bei der Treuhand und geben interessante Einblicke in die anfallenden Tätigkeiten. \n  \nUnsere Mitarbeitenden beantworten alle Fragen rund um den Ausbildungsberuf sowie weitere Karrieremöglichkeiten bei der Treuhand. \n  \nTermine: \nDienstag\, den 19.5.2026 von 8:30 bis 14:45 Uhr\nMittwoch\, den 20.5.2026 von 8:30 bis 14:45 Uhr \n  \nNähere Informationen findest du hier. \n  \nWir freuen uns auf dich!
URL:https://treuhand.de/veranstaltung/vocatium-2026-fachmesse-fuer-ausbildung-studium/
LOCATION:Weser-Ems-Hallen\, Europaplatz 12\, Oldenburg\, Niedersachsen\, 26123\, Deutschland
CATEGORIES:Job- & Ausbildungsveranstaltungen,Veranstaltungen
END:VEVENT
BEGIN:VEVENT
DTSTART;TZID=Europe/Berlin:20260611T080000
DTEND;TZID=Europe/Berlin:20260611T170000
DTSTAMP:20260419T222355
CREATED:20260312T084230Z
LAST-MODIFIED:20260312T084230Z
UID:24245-1781164800-1781197200@treuhand.de
SUMMARY:Azubi-Express NWZ
DESCRIPTION:Wir sind 2026 mit dabei beim Azubi-Express der NWZ! \n  \nDer Azubi-Express bietet Jugendlichen ab der 9. Klasse eine einzigartige\, praxisnahe Berufsorientierung. Durch das flexible Hop-on-Hop-off-Prinzip können die Teilnehmenden selbst entscheiden\, welche Unternehmen sie besuchen möchten. Die Teilnahme ist kostenlos. \n  \nWir sind am Donnerstag\, den 11.06.2026 für dich da und freuen uns\, dich bei uns begrüßen zu dürfen! \n  \nNähere Informationen zum Azubi-Express der NWZ findest du hier.
URL:https://treuhand.de/veranstaltung/azubi-express-nwz/
LOCATION:Treuhand\, Langenweg 55\, Oldenburg\, 26125
CATEGORIES:Job- & Ausbildungsveranstaltungen,Veranstaltungen
END:VEVENT
BEGIN:VEVENT
DTSTART;TZID=Europe/Berlin:20260806T083000
DTEND;TZID=Europe/Berlin:20260806T143000
DTSTAMP:20260419T222355
CREATED:20251204T082353Z
LAST-MODIFIED:20251204T091637Z
UID:22898-1786005000-1786026600@treuhand.de
SUMMARY:Tages-Praktikum Steuerfachangestellter (m/w/d)
DESCRIPTION:Wenn Du einen ersten Blick auf einen der interessantesten Wirtschaftsberufe werfen möchtest\, dann komm zu uns und erlebe\, was es heißt\, als Steuerfachangestellter (m/w/d) zu arbeiten.\n \nWann? Wahlweise am 06.08. oder 11.08.2026 von 08:30 – 14:00 Uhr\n \nDas interessiert Dich: \n\nSpaß am Umgang mit Zahlen\nGesunder Teamgeist\nDigitales Arbeiten\nInteresse an wirtschaftlichen Zusammenhängen\n\nDas erwartet dich: \n\nEinführung in das Thema Rechnungswesen mit interaktiver Mitarbeit\nBearbeitung eines Einkommenssteuerfalls\, um in die Welt der Steuern einzutauchen\nEine Besichtigungstour durch die Treuhand\, um einen Eindruck vom Arbeitsumfeld zu bekommen\nUnsere Azubis erzählen euch etwas über die Ausbildung bei uns\nAusblick auf Entwicklungs- und Karrieremöglichkeiten\nTipps und Tricks rund um das Thema Bewerbungsprozess von unseren Ausbilderinnen und Ausbildern\nUnterlagen\, Getränke und ein Frühstückssnack stehen für dich bereit\n\nAnmeldung bis 01.08.2026 über E-Mail: veranstaltungen@treuhand.de\n \nBitte beachte\, dass auf dieser Veranstaltung gegebenenfalls Fotos und Videos erstellt und unter anderem auf unseren Social-Media-Kanälen veröffentlicht werden. Wenn du nicht fotografiert bzw. gefilmt werden möchtest\, sprich bitte den Fotografen an. Einzelheiten findest du in unseren Datenschutzhinweisen für Veranstaltungs- und Seminarteilnehmer.
URL:https://treuhand.de/veranstaltung/tages-praktikum-steuerfachangestellter/
LOCATION:Treuhand\, Langenweg 55\, Oldenburg\, 26125
CATEGORIES:Job- & Ausbildungsveranstaltungen,Veranstaltungen
END:VEVENT
BEGIN:VEVENT
DTSTART;VALUE=DATE:20260911
DTEND;VALUE=DATE:20260914
DTSTAMP:20260419T222355
CREATED:20250107T130019Z
LAST-MODIFIED:20260312T082818Z
UID:18261-1789113600-1789286399@treuhand.de
SUMMARY:job4u 2026- Berufsorientierungs- und Ausbildungsmesse
DESCRIPTION:Starte durch – werde Azubi im #teamtreuhand! \n  \nDu bist auf der Suche nach einem Ausbildungsberuf mit Spaß\, Vielfältigkeit und Zukunftsperspektive? Dann lass dich von den vielfältigen Möglichkeiten bei der Treuhand begeistern. Während der Ausbildung lernst du die unterschiedlichen Bereiche kennen und bearbeitest spannende Aufgaben. Ob am PC\, beim Mandanten\, im innerbetrieblichen Unterricht mit deinen Mitazubis\, in der Berufsschule oder in der Pause in unserer Kantine – du wirst von unserem umfassenden Ausbildungsangebot begeistert sein. \n  \nAn unserem Messestand informieren wir dich an zwei Tagen über die abwechslungsreichen Ausbildungsberufe des Steuerfachangestellten (m/w/d)\, Fachinformatikers Fachrichtung Systemintegration (w/w/d) und des Kaufmanns für Büromanagement (m/w/d) bei der Treuhand und geben interessante Einblicke in die anfallenden Tätigkeiten. Unsere Mitarbeitenden und Auszubildenden beantworten vor Ort alle Fragen rund um den Ausbildungsberuf sowie weitere Karrieremöglichkeiten im #teamtreuhand. \n  \nTermine: \n11.09.2026 · 9:00 Uhr – 14:00 Uhr\n12.09.2026 · 10:00 Uhr – 15:00 Uhr \n  \nWeitere Infos gibt es hier. \n  \nWir freuen uns auf dich!
URL:https://treuhand.de/veranstaltung/job4u-2026-berufsorientierungs-und-ausbildungsmesse/
LOCATION:Weser-Ems-Hallen\, Europaplatz 12\, Oldenburg\, Niedersachsen\, 26123\, Deutschland
CATEGORIES:Job- & Ausbildungsveranstaltungen,Veranstaltungen
END:VEVENT
BEGIN:VEVENT
DTSTART;VALUE=DATE:20260918
DTEND;VALUE=DATE:20260921
DTSTAMP:20260419T222355
CREATED:20250107T133135Z
LAST-MODIFIED:20260312T083642Z
UID:18275-1789718400-1789891199@treuhand.de
SUMMARY:15. Jobmesse Oldenburger Münsterland
DESCRIPTION:Wir sind  auf der 15. Jobmesse im Oldenburger Münsterland dabei! \n  \nAngesprochen werden auf der Ausbildungsmesse insbesondere Fach- und Führungskräfte\, Studenten aller Fachrichtungen und Semester\, sowie auch Schülerinnen und Schüler der Abschlussklassen und alle Weiterbildungsinteressenten. Verschiedene interessante Vorträge zu aktuellen Themen des Arbeitsmarktes machen die Jobmesse in Vechta darüber hinaus zu einer wichtigen Anlaufstelle in Zeiten des demographischen Wandels und Fachkräftemangels. \n  \nWir sind am Freitag 18.09. von 08:30 bis 14:00 Uhr und Samstag 19.09. von 10:00 bis 15:00 Uhr für dich da. \n  \nWir freuen uns dich auf dieser Veranstaltung zu begrüßen! \n  \nNähere Informationen findest du hier.
URL:https://treuhand.de/veranstaltung/15-jobmesse-oldenburger-muensterland/
LOCATION:ecopark Emstek\, Ecopark-Allee 5\, Emstek\, Niedersachsen\, 49685\, Deutschland
CATEGORIES:Job- & Ausbildungsveranstaltungen,Veranstaltungen
END:VEVENT
BEGIN:VEVENT
DTSTART;TZID=Europe/Berlin:20261118T090000
DTEND;TZID=Europe/Berlin:20261118T140000
DTSTAMP:20260419T222355
CREATED:20231214T121926Z
LAST-MODIFIED:20260312T083019Z
UID:3557-1794992400-1795010400@treuhand.de
SUMMARY:Jade Karrieretag 2026 – Jobmesse
DESCRIPTION:Werde Teil unseres #teamtreuhand! Lerne uns auf dem Jade Karrieretag 2026 persönlich kennen und lass‘ dich von der Treuhand begeistern. Mit unseren Leistungsbereichen Wirtschaftsprüfung\, Steuer-\, Rechts-\, Unternehmens- und IT-Beratung bieten wir engagierten Studierenden und Absolventen vielfältige Einstiegs- und Karrieremöglichkeiten. Darüber hinaus stellen wir auch unsere Ausbildungsberufe zum Steuerfachangestellten (m/w/d) & Kaufmann für Büromanagement (m/w/d) und unser triales Studium im Bereich Steuerrecht interessierten Schülerinnen und Schülern vor. \n  \nFür deinen Berufseinstieg haben wir dir einiges zu bieten: ein exzellentes Aus- und Weiterbildungssystem\, eine teamorientierte und familienfreundliche Unternehmenskultur\, vielfältige Sozialleistungen und vor allen Dingen hervorragende Entwicklungsperspektiven in einer tollen Arbeitsatmosphäre. Mit unserem internationalen Expertenteam des HLB-Netzwerkes\, einem Zusammenschluss unabhängiger Wirtschaftsprüfungs- und Steuerberatungsgesellschaften\, nimmt Ihre Zukunft richtig Fahrt auf. \n  \nWir freuen uns auf ein persönliches Gespräch mit dir auf dem Karrieretag! \n  \nWeitere Informationen findest du hier.
URL:https://treuhand.de/veranstaltung/jade-karrieretag-jobmesse/
LOCATION:Jade Hochschule\, Friedrich-Paffrath-Str. 101\, Wilhelmshaven\, Niedersachsen\, 26389\, Deutschland
CATEGORIES:Job- & Ausbildungsveranstaltungen,Veranstaltungen
END:VEVENT
BEGIN:VEVENT
DTSTART;VALUE=DATE:20261203
DTEND;VALUE=DATE:20261206
DTSTAMP:20260419T222355
CREATED:20260312T084856Z
LAST-MODIFIED:20260312T085008Z
UID:24248-1796284800-1796457599@treuhand.de
SUMMARY:IFA-Symposium 2026
DESCRIPTION:Den Besuchenden erwartet ein interessantes Programm mit Vorträgen und Workshops aus Unternehmen verschiedener Branchen sowie IFA-Praxisgespräche mit teilnehmenden Unternehmen.\n \nWeitere Informationen gibt es hier.
URL:https://treuhand.de/veranstaltung/ifa-symposium-2026/
LOCATION:Haus der Wissenschaft\, Sandstraße 4/5\, Bremen\, Bremen\, 28195\, Germany
CATEGORIES:Job- & Ausbildungsveranstaltungen,Veranstaltungen
END:VEVENT
END:VCALENDAR